Workbook
Name Kontrollkästchen27: FB_Finanzierungsplan!$E$25
Name Kontrollkästchen28: FB_Finanzierungsplan!$E$26
Name Kontrollkästchen29: FB_Finanzierungsplan!$E$27
Name Kontrollkästchen30: FB_Finanzierungsplan!$E$28
Name Kontrollkästchen31: FB_Finanzierungsplan!#REF!
Name Text37: FB_Finanzierungsplan!$B$12
Name Text38: FB_Finanzierungsplan!#REF!
Name Text39: FB_Finanzierungsplan!#REF!
Name Text40: FB_Finanzierungsplan!$E$17
Name Text41: FB_Finanzierungsplan!#REF!
Name Text42: FB_Finanzierungsplan!$E$18
Name Text43: FB_Finanzierungsplan!#REF!
Name Text44: FB_Finanzierungsplan!#REF!
Name Text45: FB_Finanzierungsplan!#REF!
Name Text47: FB_Finanzierungsplan!$C$25
Name Text49: FB_Finanzierungsplan!$C$26
Name Text51: FB_Finanzierungsplan!$C$27
Name Text53: FB_Finanzierungsplan!$C$28
Name Text54: FB_Finanzierungsplan!#REF!
Name Text55: FB_Finanzierungsplan!#REF!
Name Text57: FB_Finanzierungsplan!$B$41
Name Text58: FB_Finanzierungsplan!$D$41
Name Text59: FB_Finanzierungsplan!#REF!
Name Text60: FB_Finanzierungsplan!$B$42
Name Text61: FB_Finanzierungsplan!$D$42
Name Text62: FB_Finanzierungsplan!#REF!
Name Text63: FB_Finanzierungsplan!$B$43
Name Text64: FB_Finanzierungsplan!$D$43
Name Text65: FB_Finanzierungsplan!#REF!
Name Text66: FB_Finanzierungsplan!$B$44
Name Text67: FB_Finanzierungsplan!$D$44
Name Text68: FB_Finanzierungsplan!#REF!
Name Text69: FB_Finanzierungsplan!#REF!
Name Text70: FB_Finanzierungsplan!#REF!
Name Text71: FB_Finanzierungsplan!#REF!
Name Text72: FB_Finanzierungsplan!$B$47
Name Text73: FB_Finanzierungsplan!$D$47
Name Text74: FB_Finanzierungsplan!#REF!
Name Text75: FB_Finanzierungsplan!$B$57
Name Text76: FB_Finanzierungsplan!#REF!
Name Text77: FB_Finanzierungsplan!$B$56
Name Text78: FB_Finanzierungsplan!#REF!
Name Text79: FB_Finanzierungsplan!#REF!
Name Text80: FB_Finanzierungsplan!#REF!
Name Text81: FB_Finanzierungsplan!$B$58
Name Text82: FB_Finanzierungsplan!#REF!
Name Text83: FB_Finanzierungsplan!$B$59
Name Text84: FB_Finanzierungsplan!#REF!
Name Text85: FB_Finanzierungsplan!#REF!
Name Text86: FB_Finanzierungsplan!#REF!
Name Text89: FB_Finanzierungsplan!#REF!
Name Text90: FB_Finanzierungsplan!#REF!
Name Text91: FB_Finanzierungsplan!$B$81
Name Text92: FB_Finanzierungsplan!#REF!
Name Text95: FB_Finanzierungsplan!$B$82
Name Text96: FB_Finanzierungsplan!#REF!
Name Text97: FB_Finanzierungsplan!#REF!
Name Text98: FB_Finanzierungsplan!#REF!

Sheet Info
A1: AUSFÜLLHINWEISE: Finanzierungsplan
A2: Allgemein
A3: - Nur weiße Felder sind zu befüllen. (Graue Felder werden automatisch berechnet bzw. sind gesperrt.)
A4: - Enthält eine Zelle den Wert "Null" wird das als "Bindestrich" angezeigt. (z.B. "- €" für "Null Euro")
A5: - Texteingabe mehrzeilig: Textfelder vergrößern sich nur mit einem Doppelklick in das jeweilige Textfeld und nicht automatisch nach Befüllen des Feldes.Wenn der eingegebene Text in einer Zelle mehr als eine Zeile benötigt, bitte "Doppelklick" in die betreffende Zelle plus "Enter". >> Die Zeilenhöhe passt sich an die Textlänge an.
A6: - Erläuterungen: Sollte der Platz nicht ausreichen, bitte Beiblatt hinzufügen.
A8: Formblatt "Finanzierungsplan"
A9: 1) Kopfdaten:
A10: - Tragen Sie zuerst die allgemeinen Projektangaben in den Zeilen 2 bis 4 ein: Zuwendungsempfänger, Projekttitel und Projektnummer entsprechend den Angaben im Antrag.
A12: 2) Abschnitt A: Gesamtfinanzierung im beantragten Zeitraum
A13: - Alle bereits beantragten oder noch geplanten Finanzierungsmittel sind im Finanzierungsplan zu nennen. Für Projekte, die nach dieser Richtlinie gefördert werden, dürfen grundsätzlich keine zusätzlichen Förderungen aus Mitteln des Landes Thüringen eingesetzt werden. Eine ergänzende Förderung nach Programmsäule 1 dieser Richtlinie (Soziale Beratung und Betreuung) ist nicht möglich.
A14: - Die Summen und prozentualen Anteile der Finanzierung werden automatisch berechnet.
... A31: Vers. 2.0 - 24.08.2026 (TMJMV): Anpassung Projektförderrichtlinie Integration und migrationsspezifische Sozialberatung 08/2026

Sheet FB_Finanzierungsplan
B2: Antragsteller bzw. Zuwendungsempfänger: | I2: Hilfstabellen in Spalten K-O! nicht ändern! | J2: =FB_Finanzierungsplan!C2 | K2: Hilfsspalte DM | L2: Hilfsspalte Sonst. Einn. | M2: Hilfsspalte Mitarbeitende | N2: Hilfsspalte Spitzabrechnung | O2: Hilfsspalte Sachausgaben
B3: Projekttitel: | I3: [Breite+Format nicht ändern] | J3: =FB_Finanzierungsplan!C3 | K3: [Breite+Format nicht ändern] | L3: [Breite+Format nicht ändern] | M3: [Breite+Format nicht ändern] | N3: [Breite+Format nicht ändern] | O3: [Breite+Format nicht ändern]
B4: Projektnummer: | D4: [bitte angeben, sobald bekannt]
B7: Finanzierungsplan | E7: Förderjahr:
B9: Zutreffendes auswählen: | C9: FALSE
C10: FALSE
C11: TRUE
B12: Beantragter Projektzeitraum | C12: von: | E12: bis:
B14: A) Gesamtfinanzierung im beantragten Zeitraum
B16: Geplante Finanzierung | D16: Betrag in Euro | E16: Prozentualer Anteil
B17: Beantragte Landesmittel | D17: 0 | E17: =($D17/$D$21) -> #DIV/0!
B18: Eigenmittel | D18: 0 | E18: =($D18/$D$21) -> #DIV/0!
B19: Drittmittel gesamt [Summe entspricht Auflistung unten] | D19: =SUM(D25:D28) -> 0 | E19: =($D19/$D$21) -> #DIV/0!
B20: Sonstige projektbezogene Einnahmen [Summe entspricht Auflistung unten] | D20: =SUM(F32:F35) -> 0 | E20: =($D20/$D$21) -> #DIV/0!
B21: Summe der Finanzierungsmittel | D21: =SUM(D17:D20) -> 0 | E21: =SUM(E17:F20) -> #DIV/0!
B23: Drittmittel (z. B. EU- oder Bundesmittel, Stiftungs- oder Sponsorengelder, projektbezogene Spenden, etc.)
B24: Mittelgeber und Quelle der Mittel (z. B. Richtlinie) | D24: Betrag in Euro | E24: in Aussicht | F24: bereits bewilligt | K24: Zeilenhöhe Drittmittel
D25: 0 | E25: 0 | F25: FALSE | K25: =FB_Finanzierungsplan!B25 -> 0
D26: 0 | E26: 0 | F26: FALSE | K26: =FB_Finanzierungsplan!B26 -> 0
D27: 0 | E27: 0 | F27: FALSE | K27: =FB_Finanzierungsplan!B27 -> 0
D28: 0 | E28: 0 | F28: FALSE | K28: =FB_Finanzierungsplan!B28 -> 0
B30: Sonstige projektbezogene Einnahmen (z. B. aus Eintrittsgeldern, ...)
B31: Art und Anzahl der projektbezogenen Einnahmen | F31: Betrag in Euro | L31: Zeilenhöhe Sonst. Einnahmen
F32: 0 | L32: =FB_Finanzierungsplan!B32 -> 0
F33: 0 | L33: =FB_Finanzierungsplan!B33 -> 0
F34: 0 | L34: =FB_Finanzierungsplan!B34 -> 0
F35: 0 | L35: =FB_Finanzierungsplan!B35 -> 0
B37: [Hinweis: Die Summe der Finanzierungsmittel (siehe A) muss mit der Summe unter 4. Gesamtausgaben (siehe B) übereinstimmen.]
B38: B) Projektbezogene Ausgaben im beantragten Zeitraum
B39: 1. Personalausgaben | C39: [nur für angestelltes Personal; Honorare bitte unter Sachausgaben angeben]
B40: Position | C40: Mitarbeitende Person / Funktion im Projekt / Stunden pro Woche / Zeitraum Projekteinsatz / Tarif(gruppe) | E40: Vergütungs-gruppe TV-L (vergleichbar) | F40: Betrag in Euro | M40: Zeilenhöhe Mitarbeitende
B41: 1.1 Projektstelle 1 | F41: 0 | M41: =FB_Finanzierungsplan!C41 -> 0
B42: 1.2 Projektstelle 2 | F42: 0 | M42: =FB_Finanzierungsplan!C42 -> 0
B43: 1.3 Projektstelle 3 | F43: 0 | M43: =FB_Finanzierungsplan!C43 -> 0
B44: 1.4 Projektstelle 4 | F44: 0 | M44: =FB_Finanzierungsplan!C44 -> 0
B45: 1.5 Projektstelle 5 | F45: 0 | M45: =FB_Finanzierungsplan!C45 -> 0
B46: 1.6 Projektstelle 6 | F46: 0 | M46: =FB_Finanzierungsplan!C46 -> 0
B47: 1.7 Projektstelle 7 | F47: 0 | M47: =FB_Finanzierungsplan!C47 -> 0
B48: 1.8 Projektstelle 8 | F48: 0
B49: 1.9 Projektstelle 9 | F49: 0
...
